BEGIN:VCALENDAR
VERSION:2.0
PRODID:-//Squarespace Inc/Squarespace 6//v6//EN
BEGIN:VEVENT
UID:59ca3b5051a584c476f9c87d@squarespace.com
DTSTAMP:20170926T122748Z
DTSTART:20170927T173000Z
DTEND:20170928T013000Z
SUMMARY:Launch Date
END:VEVENT
END:VCALENDAR
